Workbook

Sheet 2022년 총괄표최종제출본
A1: 2022년 장애인공동생활가정(내일을꿈꾸는사람들+희망을긷는샘) 변경예산서
A2: <세입. 세출 총괄> | N2: (단위 : 천원)
A3: 세 입 | H3: 세 출
A4: 관 | B4: 항 | C4: 목 | D4: 2022 당초 예산(A) | E4: 2022 변경 예산(B) | F4: 증감(B-A) | H4: 관 | I4: 항 | J4: 목 | K4: 2022 당초 예산(A) | L4: 2022 변경 예산(B) | M4: 증감(B-A)
F5: 금액 | G5: 비율(%) | M5: 금액 | N5: 비율(%)
A6: 계 | D6: =D8+D12+D14+D16+D18 -> 85617 | E6: =E8+E12+E14+E16+E18 -> 87370 | F6: =E6-D6 -> 1753 | G6: =F6/D6 -> 0.020474906 | H6: 계 | K6: =K8+K26+K32+K39 -> 85617 | L6: =L8+L26+L32+L39 -> 87369 | M6: =L6-K6 -> 1752 | N6: =M6/K6 -> 0.020463226
A8: 보조금수입 | B8: 보조금수입 | D8: =D10 -> 71617 | E8: =E10 -> 71617 | F8: =E8-D8 -> 0 | G8: =F8/D8 -> 0 | H8: 사무비 | K8: =K10+K16+K19 -> 75205 | L8: =L10+L16+L19 -> 76941 | M8: =L8-K8 -> 1736 | N8: =M8/K8 -> 0.023083572
C10: 보조금수입 | D10: 71617 | E10: 71617 | F10: =E10-D10 -> 0 | G10: =F10/D10 -> 0 | I10: 인건비 | K10: =SUM(K11:K15) -> 60802 | L10: =SUM(L11:L15) -> 60444 | M10: =L10-K10 -> -358 | N10: =M10/K10 -> -0.0058879642
J11: 급여 | K11: 38936 | L11: 38936 | M11: =L11-K11 -> 0 | N11: =M11/K11 -> 0
A12: 후원금 | B12: 후원금 | C12: 후원금 | D12: 600 | E12: 2736 | F12: =E12-D12 -> 2136 | G12: =F12/D12 -> 3.56 | J12: 제수당 | K12: 12330 | L12: 11562 | M12: =L12-K12 -> -768 | N12: =M12/K12 -> -0.062287105
J13: 퇴직적립금 | K13: 3350 | L13: 4012 | M13: =L13-K13 -> 662 | N13: =M13/K13 -> 0.19761194
A14: 전입금 | B14: 전입금 | C14: 전입금 | D14: 3283 | E14: 2900 | F14: =E14-D14 -> -383 | G14: =F14/D14 -> -0.11666159 | J14: 사회보험부담비용 | K14: 5014 | L14: 5148 | M14: =L14-K14 -> 134 | N14: =M14/K14 -> 0.02672517
J15: 기타후생경비 | K15: 1172 | L15: 786 | M15: =L15-K15 -> -386 | N15: =M15/K15 -> -0.32935154
A16: 잡수입 | B16: 잡수입 | C16: 잡수입 | D16: 20 | E16: 20 | F16: =E16-D16 -> 0 | G16: =F16/D16 -> 0 | I16: 업무추진비 | K16: =K18+K17 -> 850 | L16: =L18+L17 -> 660 | M16: =L16-K16 -> -190 | N16: =M16/K16 -> -0.22352941
J17: 기관운영비 | K17: 150 | L17: 150 | M17: =L17-K17 -> 0 | N17: =M17/K17 -> 0
A18: 전년도 이월금 | B18: 전년도 이월금 | D18: 10097 | E18: 10097 | F18: =E18-D18 -> 0 | G18: =F18/D18 -> 0 | J18: 회의비 | K18: 700 | L18: 510 | M18: =L18-K18 -> -190 | N18: =M18/K18 -> -0.27142857
I19: 운영비 | K19: =SUM(K20:K25) -> 13553 | L19: =SUM(L20:L25) -> 15837 | M19: =L19-K19 -> 2284 | N19: =M19/K19 -> 0.16852357
C20: 전년도 이월금 | D20: 1010 | E20: 1010 | F20: =E20-D20 -> 0 | G20: =F20/D20 -> 0 | J20: 여비 | K20: 200 | L20: 100 | M20: =L20-K20 -> -100 | N20: =M20/K20 -> -0.5
J21: 수용비 및 수수료 | K21: 6778 | L21: 6726 | M21: =L21-K21 -> -52 | N21: =M21/K21 -> -0.0076718796
C22: 후원금 이월금 | D22: 9086 | E22: 9086 | F22: =E22-D22 -> 0 | G22: =F22/D22 -> 0 | J22: 공공요금 | K22: 3711 | L22: 5633 | M22: =L22-K22 -> 1922 | N22: =M22/K22 -> 0.5179197
J23: 제세공과금 | K23: 940 | L23: 814 | M23: =L23-K23 -> -126 | N23: =M23/K23 -> -0.13404255
J24: 차량비 | K24: 1139 | L24: 1880 | M24: =L24-K24 -> 741 | N24: =M24/K24 -> 0.65057068
J25: 기타운영비 | K25: 785 | L25: 684 | M25: =L25-K25 -> -101 | N25: =M25/K25 -> -0.12866242
H26: 재산조성비 | K26: =K28 -> 1925 | L26: =L28 -> 1443 | M26: =L26-K26 -> -482 | N26: =M26/K26 -> -0.25038961
I28: 시설비 | K28: =SUM(K29:K31) -> 1925 | L28: =SUM(L29:L31) -> 1443 | M28: =L28-K28 -> -482 | N28: =M28/K28 -> -0.25038961
J29: 시설비 | K29: 400 | L29: 200 | M29: =L29-K29 -> -200 | N29: =M29/K29 -> -0.5
J30: 자산취득비 | K30: 300 | L30: 347 | M30: =L30-K30 -> 47 | N30: =M30/K30 -> 0.15666667
J31: 시설장비유지비 | K31: 1225 | L31: 896 | M31: =L31-K31 -> -329 | N31: =M31/K31 -> -0.26857143
H32: 사업비 | K32: =+K34+K37 -> 2620 | L32: =+L34+L37 -> 2167 | M32: =L32-K32 -> -453 | N32: =M32/K32 -> -0.17290076
I34: 운영비 | K34: =SUM(K35:K36) -> 2200 | L34: =SUM(L35:L36) -> 2047 | M34: =L34-K34 -> -153 | N34: =M34/K34 -> -0.069545455
J35: 생계비 | K35: 1040 | L35: 673 | M35: =L35-K35 -> -367 | N35: =M35/K35 -> -0.35288462
J36: 수용기관경비 | K36: 1160 | L36: 1374 | M36: =L36-K36 -> 214 | N36: =M36/K36 -> 0.18448276
I37: 사업비 | K37: =K38 -> 420 | L37: =L38 -> 120 | M37: =L37-K37 -> -300 | N37: =M37/K37 -> -0.71428571
J38: 사업비 | K38: 420 | L38: 120 | M38: =L38-K38 -> -300 | N38: =M38/K38 -> -0.71428571
H39: 예비비 | K39: =K41+K42 -> 5867 | L39: =L41+L42 -> 6818 | M39: =L39-K39 -> 951 | N39: =M39/K39 -> 0.16209306
I41: 정부보조반환금 | J41: 정부보조반환금 | K41: 3000 | L41: 3000 | M41: =L41-K41 -> 0 | N41: =M41/K41 -> 0
I42: 예비비 | J42: 예비비 | K42: 2867 | L42: 3818 | M42: =L42-K42 -> 951 | N42: =M42/K42 -> 0.33170562

Sheet 2022년 예산서
A1: 2022년 장애인공동생활가정(내일을꿈꾸는사람들+희망을긷는샘) 변경예산서
A2: <세입>
A3: 관 | B3: 항 | C3: 목 | D3: 22당초보조금(A) | E3: 산 출 내 역 | I3: 22변경보조금(B) | J3: 산 출 내 역 | N3: 증감(B-A)
D4: 22당초자부담(A) | I4: 22변경자부담(B) | N4: 금액 | O4: 비율(%)
A5: 계 | D5: =D7 -> 71617 | H5: =H7 -> 71617000 | I5: =I7 -> 71617 | M5: =M7 -> 71617000 | N5: =I5-D5 -> 0 | O5: =N5/D5 -> 0
D6: =D13+D17+D21+D25 -> 14000 | H6: =H19+H23+H25+H15 -> 14000000 | I6: =I13+I17+I21+I25 -> 15752.671 | M6: =M19+M23+M25+M15 -> 15752671 | N6: =I6-D6 -> 1752.671 | O6: =N6/D6 -> 0.12519079
A7: 보조금 | B7: 보조금 | D7: =H7/1000 -> 71617 | H7: =H9+H11 -> 71617000 | I7: =M7/1000 -> 71617 | M7: =M9+M11 -> 71617000 | N7: =I7-D7 -> 0 | O7: =N7/D7 -> 0
C9: 보조금 | D9: =H9/1000 -> 360 | E9: 0 시군구보조금 | H9: 360000 | I9: =M9/1000 -> 360 | J9: 0 시군구보조금 | M9: 360000 | N9: =I9-D9 -> 0 | O9: =N9/D9 -> 0
D11: =H11/1000 -> 71257 | E11: 0 시도보조금 | H11: 71257000 | I11: =M11/1000 -> 71257 | J11: 0 시도보조금 | M11: 71257000 | N11: =I11-D11 -> 0 | O11: =N11/D11 -> 0
A13: 후원금 | B13: 후원금 | D13: =D15 -> 600 | I13: =I15 -> 2736 | N13: =I13-D13 -> 2136 | O13: =N13/D13 -> 3.56
C15: 후원금 | D15: =H15/1000 -> 600 | E15: 0 후원금수입 | H15: 600000 | I15: =M15/1000 -> 2736 | J15: 0 후원금수입 | M15: 2736000 | N15: =I15-D15 -> 2136 | O15: =N15/D15 -> 3.56
A17: 전입금 | B17: 전입금 | D17: =D19 -> 3283.329 | I17: =I19 -> 2900 | N17: =I17-D17 -> -383.329 | O17: =N17/D17 -> -0.1167501
C19: 전입금 | D19: =H19/1000 -> 3283.329 | E19: 0 법인전입금 | H19: 3283329 | I19: =M19/1000 -> 2900 | J19: 0 법인전입금 | M19: 2900000 | N19: =I19-D19 -> -383.329 | O19: =N19/D19 -> -0.1167501
A21: 잡수입 | B21: 잡수입 | D21: =D23 -> 20 | I21: =I23 -> 20 | N21: =I21-D21 -> 0 | O21: =N21/D21 -> 0
C23: 잡수입 | D23: =H23/1000 -> 20 | E23: 0 예금이자수입 | H23: 20000 | I23: =M23/1000 -> 20 | J23: 0 예금이자수입 | M23: 20000 | N23: =I23-D23 -> 0 | O23: =N23/D23 -> 0
A25: 전년도 이월금 | B25: 전년도 이월금 | D25: =H25/1000 -> 10096.671 | H25: =H27+H29 -> 10096671 | I25: =M25/1000 -> 10096.671 | M25: =M27+M31 -> 10096671 | N25: =I25-D25 -> 0 | O25: =N25/D25 -> 0
C27: 후원금이월금 | D27: =H27/1000 -> 1010.203 | E27: 0 후원금이월금 | H27: 1010203 | I27: =M27/1000 -> 1010.203 | J27: 0 후원금이월금 | M27: 1010203 | N27: =I27-D27 -> 0 | O27: =N27/D27 -> 0
C29: 전년도이월금 | D29: =H29/1000 -> 9086.468 | E29: 0 전년도이월금 | H29: 9086468 | I29: =M31/1000 -> 9086.468 | J29: 0 전년도이월금 | M29: 8991578 | N29: =I29-D29 -> 0 | O29: =N29/D29 -> 0
J30: 0 전년도이월금(법인) | M30: 94890
M31: =M29+M30 -> 9086468
A34: <세출>
A35: 관 | B35: 항 | C35: 목 | D35: 22당초보조금(A) | E35: 산 출 내 역 | I35: 22변경보조금(B) | J35: 산 출 내 역 | N35: 증감(B-A)
D36: 22당초자부담(A) | I36: 22변경자부담(B) | N36: 금액 | O36: 비율(%)
A37: 계 | D37: =D39+D133+D151 -> 71617 | H37: =H39+H133+H151 -> 71617000 | I37: =I39+I133+I151 -> 71617 | M37: =M39+M133+M151 -> 71617000 | N37: =I37-D37 -> 0 | O37: =N37/D37 -> 0
D38: =D40+D134+D152+D175 -> 14000 | H38: =H40+H134+H152+H175 -> 14000000 | I38: =I40+I134+I152+I175 -> 15752.671 | M38: =M40+M134+M152+M175 -> 15752671 | N38: =I38-D38 -> 1752.671 | O38: =N38/D38 -> 0.12519079
A39: 사무비 | D39: =D41+D80+D89 -> 68737 | H39: =H41+H89+H80 -> 68737000 | I39: =I41+I80+I89 -> 69472.02 | M39: =M41+M89+M80 -> 69472020 | N39: =I39-D39 -> 735.02 | O39: =N39/D39 -> 0.010693222
D40: =D42+D81+D90 -> 6468.532 | H40: =H42+H90+H81 -> 6468532 | I40: =I42+I81+I90 -> 7469.273 | M40: =M42+M90+M81 -> 7469273 | N40: =I40-D40 -> 1000.741 | O40: =N40/D40 -> 0.15470914
B41: 인건비 | D41: =D43+D48+D58+D62+D72 -> 57669 | H41: =H46++H56+H60+H70+H75 -> 57669000 | I41: =I43+I48+I58+I62+I72 -> 57669 | M41: =M46++M56+M60+M70+M75 -> 57669000 | N41: =I41-D41 -> 0 | O41: =N41/D41 -> 0
D42: =D46+D55+D60+D67+D74 -> 3133.329 | H42: =H47+H57+H61+H71+H76 -> 3133329 | I42: =I46+I55+I60+I67+I74 -> 2775.69 | M42: =M47+M57+M61+M71+M76 -> 2775690 | N42: =I42-D42 -> -357.639 | O42: =N42/D42 -> -0.11414026
C43: 급여 | D43: =H46/1000 -> 38936 | E43: 0 4급 15호봉 | H43: 16025000 | I43: =M46/1000 -> 38936 | J43: 0 4급 15호봉 | M43: 16025000 | N43: =I43-D43 -> 0 | O43: =N43/D43 -> 0
E44: 0 4급 16호봉 | H44: 22911000 | J44: 0 4급 16호봉 | M44: 22911000
D46: 0 | F46: 소계 | H46: =SUM(H43:H44) -> 38936000 | I46: 0 | K46: 소계 | M46: =SUM(M43:M45) -> 38936000 | N46: =I46-D46 -> 0 | O46: 0
H47: 0 | M47: 0
C48: 제수당 | D48: =H56/1000 -> 10127.64 | E48: 0 조정수당 | H48: 1602500 | I48: =M56/1000 -> 9629.82 | J48: 0 조정수당 | M48: 1602500 | N48: =I48-D48 -> -497.82 | O48: =N48/D48 -> -0.049154591
E49: 0 여름휴가비 | H49: 300000 | J49: 0 여름휴가비 | M49: 300000
E50: 0 체력단련비 | H50: 300000 | J50: 0 체력단련비 | M50: 300000
E51: 0 가족수당 | H51: 720000 | J51: 0 가족수당 | M51: 720000
E52: 0 명절휴가비 | H52: 3886800 | J52: 0 명절휴가비 | M52: 3886800
E53: 0 급식비 | H53: 1200000 | J53: 0 급식비 | M53: 1200000
E54: 0 연장근로수당 | H54: 4320840 | J54: 0 연장근로수당 | M54: 3823020
D55: =H57/1000 -> 2202.5 | I55: =M57/1000 -> 2202.5 | N55: =I55-D55 -> 0 | O55: =N55/D55 -> 0
F56: 소계 | H56: =SUM(H51:H55) -> 10127640 | K56: 소계 | M56: =SUM(M51:M55) -> 9629820
H57: =SUM(H48:H50) -> 2202500 | M57: =SUM(M48:M50) -> 2202500
C58: 퇴직 적립금 | D58: =H60/1000 -> 3186.515 | E58: 0 퇴직적립금 | H58: 3186515 | I58: =M60/1000 -> 3828.81 | J58: 0 퇴직적립금 | M58: 3828810 | N58: =I58-D58 -> 642.295 | O58: =N58/D58 -> 0.2015666
H59: 163620 | M59: 183540
D60: =H61/1000 -> 163.62 | F60: 소계 | H60: =H58 -> 3186515 | I60: =M61/1000 -> 183.54 | K60: 소계 | M60: =M58 -> 3828810 | N60: =I60-D60 -> 19.92 | O60: =N60/D60 -> 0.12174551
H61: =H59 -> 163620 | M61: =M59 -> 183540
C62: 사회보험 부담비용 | D62: =H70/1000 -> 4778.845 | E62: 0 건강보험료 | H62: 1713535 | I62: =M70/1000 -> 4634.37 | J62: 0 건강보험료 | M62: 1693870 | N62: =I62-D62 -> -144.475 | O62: =N62/D62 -> -0.0302322
E63: 0 국민연금부담금 | H63: 2013430 | J63: 0 국민연금부담금 | M63: 1862660
E64: 0 고용보험료 | H64: 738260 | J64: 0 고용보험료 | M64: 748830
E65: 0 산재보험료 | H65: 313620 | J65: 0 산재보험료 | M65: 329010
E66: 0 건강보험료 | H66: 84439 | J66: 0 건강보험료 | M66: 89140
D67: =H71/1000 -> 235.209 | E67: 0 국민연금부담금 | H67: 99110 | I67: =M71/1000 -> 243.87 | J67: 0 국민연금부담금 | M67: 98000 | N67: =I67-D67 -> 8.661 | O67: =N67/D67 -> 0.036822571
E68: 0 고용보험료 | H68: 36340 | J68: 0 고용보험료 | M68: 39430
E69: 0 산재보험료 | H69: 15320 | J69: 0 산재보험료 | M69: 17300
F70: 소계 | H70: =SUM(H62:H65) -> 4778845 | K70: 소계 | M70: =SUM(M62:M65) -> 4634370
H71: =SUM(H66:H69) -> 235209 | M71: =SUM(M66:M69) -> 243870
C72: 기타후생경비 | D72: =H75/1000 -> 640 | E72: 0 연장근로식대 | H72: 432000 | I72: =M75/1000 -> 640 | J72: 0 연장근로식대 | M72: 135780 | N72: =I72-D72 -> 0 | O72: =N72/D72 -> 0
E73: 0 직원교육비 | H73: 100000 | J73: 0 직원교육비 | M73: 10000
D74: =H76/1000 -> 532 | E74: 0 복지포인트 | H74: 640000 | I74: =M76/1000 -> 145.78 | J74: 0 복지포인트 | M74: 640000 | N74: =I74-D74 -> -386.22 | O74: =N74/D74 -> -0.72597744
F75: 소계 | H75: =H74 -> 640000 | K75: 소계 | M75: =M74 -> 640000
H76: =SUM(H72:H73) -> 532000 | M76: =SUM(M72:M73) -> 145780
A77: <세출>
A78: 관 | B78: 항 | C78: 목 | D78: 22당초보조금(A) | E78: 산 출 내 역 | I78: 22변경보조금(B) | J78: 산 출 내 역 | N78: 증감(B-A)
D79: 22당초자부담(A) | I79: 22변경자부담(B) | N79: 금액 | O79: 비율(%)
B80: 업무추진비 | D80: =D84 -> 320 | H80: =H87 -> 320000 | I80: 320 | M80: =M87 -> 320000 | N80: =I80-D80 -> 0 | O80: =N80/D80 -> 0
D81: 530 | H81: =H88+H83 -> 530000 | I81: =M81/1000 -> 340 | M81: =M88+M83 -> 340000 | N81: =I81-D81 -> -190 | O81: =N81/D81 -> -0.35849057
C82: 기관운영비 | D82: 0 | E82: 0 직원선물비 | H82: 150000 | I82: 0 | J82: 0 직원선물비 | M82: 150000 | N82: =I82-D82 -> 0 | O82: 0
D83: =H82/1000 -> 150 | H83: =H82 -> 150000 | I83: =M82/1000 -> 150 | M83: =M82 -> 150000 | N83: =I83-D83 -> 0 | O83: 0
C84: 회의비 | D84: =H87/1000 -> 320 | E84: 0 이용자간담회 | H84: 320000 | I84: 320 | J84: 0 이용자간담회 | M84: 320000 | N84: =I84-D84 -> 0 | O84: 0
E85: 0 운영위원회의수당 | H85: 280000 | J85: 0 운영위원회의수당 | M85: 140000 | N85: =I85-D85 -> 0
D86: =H88/1000 -> 380 | E86: 0 다과비 | H86: 100000 | I86: =M88/1000 -> 190 | J86: 0 다과비 | M86: 50000 | N86: =I86-D86 -> -190 | O86: =N86/D86 -> -0.5
F87: 소계 | H87: =H84 -> 320000 | K87: 소계 | M87: =M84 -> 320000 | N87: =I87-D87 -> 0
H88: =H85+H86 -> 380000 | M88: =M85+M86 -> 190000 | N88: =I88-D88 -> 0
B89: 운영비 | D89: =D93+D101+D112+D123+D129 -> 10748 | H89: =H99+H110+H118+H127+H131 -> 10748000 | I89: =I93+I101+I112+I123+I129 -> 11483.02 | M89: =M99+M110+M118+M127+M131 -> 11483020 | N89: =I89-D89 -> 735.02 | O89: =N89/D89 -> 0.068386677
D90: =D92+D98+D106+D116+D127+D131 -> 2805.203 | H90: =H100+H111+H119+H128+H132+H92 -> 2805203 | I90: =I92+I98+I106+I116+I127+I131 -> 4353.583 | M90: =M100+M111+M119+M128+M132+M92 -> 4353583 | N90: =I90-D90 -> 1548.38 | O90: =N90/D90 -> 0.55196718
C91: 여비 | D91: =0 -> 0 | E91: 0 여비 | H91: 200000 | I91: =0 -> 0 | J91: 0 여비 | M91: 100000 | N91: =I91-D91 -> 0 | O91: 0
D92: =H92/1000 -> 200 | H92: =H91 -> 200000 | I92: =M92/1000 -> 100 | M92: =M91 -> 100000 | N92: =I92-D92 -> -100 | O92: =N92/D92 -> -0.5
C93: 수용비 및 수수료 | D93: =H99/1000 -> 6577.84 | E93: 0 정수기임대료 | H93: 732240 | I93: =M99/1000 -> 6625.544 | J93: 0 정수기임대료 | M93: 768230 | N93: =I93-D93 -> 47.704 | O93: =N93/D93 -> 0.0072522287
E94: 0 비데 렌탈료 | H94: 1291200 | J94: 0 비데 렌탈료 | M94: 1291200 | N94: =I94-D94 -> 0
E95: 0 사무용품비 | H95: 360000 | J95: 0 사무용품비 | M95: 132400 | N95: =I95-D95 -> 0
E96: 0 위생관리비용 | H96: 3974400 | J96: 0 위생관리비용 | M96: 4210100 | N96: =I96-D96 -> 0
E97: 0 퇴직연금수수료 | H97: 220000 | J97: 0 퇴직연금수수료 | M97: 223614 | N97: =I97-D97 -> 0
D98: =H100/1000 -> 200 | E98: 0 기타잡비 | H98: 200000 | I98: =M100/1000 -> 100 | J98: 0 기타잡비 | M98: 100000 | N98: =I98-D98 -> -100 | O98: =N98/D98 -> -0.5
F99: 소계 | H99: =H93+H94+H95+H96+H97 -> 6577840 | K99: 소계 | M99: =M93+M94+M95+M96+M97 -> 6625544
H100: =H98 -> 200000 | M100: =M98 -> 100000
C101: 공공요금 | D101: =H110/1000 -> 2400.96 | E101: 0 인터넷,TV,전화요금 | H101: 444000 | I101: =M110/1000 -> 2422.607 | J101: 0 인터넷,TV,전화요금 | M101: 444000 | N101: =I101-D101 -> 21.647 | O101: =N101/D101 -> 0.0090159769
E102: 0 도시가스요금 | H102: 1272000 | J102: 0 도시가스요금 | M102: 1470877
H103: 1010000 | M103: 2890953
E104: 0 정화조 오물수거료 | H104: 40000 | J104: 0 정화조 오물수거료 | M104: 38860
E105: 0 전기요금 | H105: 312000 | J105: 0 전기요금 | M105: 234350
D106: =H111/1000 -> 1310.203 | H106: 150000 | I106: =M111/1000 -> 3210.203 | M106: 185450 | N106: =I106-D106 -> 1900 | O106: =N106/D106 -> 1.450157
E107: 0 수도요금 | H107: 312000 | J107: 0 수도요금 | M107: 226540
H108: 150203 | M108: 133800
E109: 0 우편요금 | H109: 20960 | J109: 0 우편요금 | M109: 7980
F110: 소계 | H110: =H101+H102+H104+H105+H107+H109 -> 2400960 | K110: 소계 | M110: =M101+M102+M104+M105+M107+M109 -> 2422607
H111: =H103+H106+H108 -> 1310203 | M111: =M103+M106+M108 -> 3210203
C112: 제세공과금 | D112: =H118/1000 -> 830 | E112: 0 자동차세 | H112: 30000 | I112: =M118/1000 -> 754.705 | J112: 0 자동차세 | M112: 29050 | N112: =I112-D112 -> -75.295 | O112: =N112/D112 -> -0.090716867
E113: 0 환경개선부담금 | H113: 100000 | J113: 0 환경개선부담금 | M113: 94430
E114: 0 차량보험료 | H114: 400000 | J114: 0 차량보험료 | M114: 325725
...

Sheet 상대계정
A1: 2022년 장애인공동생활가정(내일을꿈꾸는사람들+희망을긷는샘) 상대계정
I2: (단위 : 원)
C3: 보조금 | D3: 전입금 | E3: 전년도이월금 | F3: 전년도이월금(후원) | G3: 후원금 | H3: 잡수입 | I3: 합계
A4: 인건비 | B4: 급여 | C4: ='2022년 예산서'!M46 -> 38936000 | I4: =SUM(C4:H4) -> 38936000
B5: 제수당 | C5: ='2022년 예산서'!M56 -> 9629820 | D5: ='2022년 예산서'!M57 -> 2202500 | I5: =SUM(C5:H5) -> 11832320
B6: 퇴직적립금 | C6: ='2022년 예산서'!M60 -> 3828810 | D6: ='2022년 예산서'!M61 -> 183540 | I6: =SUM(C6:H6) -> 4012350
B7: 사회보험부담비용 | C7: ='2022년 예산서'!M70 -> 4634370 | D7: ='2022년 예산서'!M71 -> 243870 | I7: =SUM(C7:H7) -> 4878240
B8: 기타후생경비 | C8: ='2022년 예산서'!M75 -> 640000 | D8: ='2022년 예산서'!M76 -> 145780 | I8: =SUM(C8:H8) -> 785780
A9: 업무추진비 | C9: ='2022년 예산서'!M80 -> 320000 | D9: 124310 | E9: 215690 | I9: =SUM(C9:H9) -> 660000
A10: 운영비 | C10: ='2022년 예산서'!M89 -> 11483020 | E10: ='2022년 예산서'!M92+'2022년 예산서'!M100+'2022년 예산서'!M119+'2022년 예산서'!M128+'2022년 예산서'!M132 -> 1143380 | F10: 1010203 | G10: 2200000 | I10: =SUM(C10:H10) -> 15836603
A11: 시설비 | C11: ='2022년 예산서'!M133 -> 714100 | E11: ='2022년 예산서'!M137+'2022년 예산서'!M141+'2022년 예산서'!M147 -> 729160 | I11: =SUM(C11:H11) -> 1443260
A12: 사업비 | C12: ='2022년 예산서'!M151 -> 1430880 | E12: ='2022년 예산서'!M156+'2022년 예산서'!M161 -> 200000 | G12: 536000 | I12: =SUM(C12:H12) -> 2166880
A13: 예비비 | E13: ='2022년 예산서'!M175-상대계정!H13 -> 6798238 | H13: 20000 | I13: =SUM(C13:H13) -> 6818238
A14: 합계 | C14: =SUM(C4:C13) -> 71617000 | D14: =SUM(D4:D13) -> 2900000 | E14: =SUM(E4:E13) -> 9086468 | F14: =SUM(F4:F13) -> 1010203 | G14: =SUM(G4:G13) -> 2736000 | H14: =SUM(H4:H13) -> 20000 | I14: =SUM(I4:I13) -> 87369671
